BEGIN:VCALENDAR
PRODID:-//Hannon Hill Events//Cascade CMS//EN
VERSION:2.0
X-WR-CALNAME:ISC Monthly Corn Soup Lunch
X-WR-TIMEZONE:America/New_York
BEGIN:VTIMEZONE
TZID:America/New_York
BEGIN:DAYLIGHT
TZOFFSETFROM:-0500
TZOFFSETTO:-0400
TZNAME:EDT
DTSTART:19700308T020000
RRULE:FREQ=YEARLY;BYMONTH=3;BYDAY=2SU
END:DAYLIGHT
BEGIN:STANDARD
TZOFFSETFROM:-0400
TZOFFSETTO:-0500
TZNAME:EST
DTSTART:19701101T020000
RRULE:FREQ=YEARLY;BYMONTH=11;BYDAY=1SU
END:STANDARD
END:VTIMEZONE
BEGIN:VEVENT
DTSTART:20261202T113000
DTEND:20261202T130000
DTSTAMP:20260408T143524
UID:6e609684ac1d70230d2e31c8def25397
CREATED:20260408T143516
DESCRIPTION:Attention Indigenous Students. Visit the ISC for a monthly lun
 ch featuring traditional Oneida-style corn soup.\n\nNote: this event is op
 en to students who identify as First Nations\, M&#233\;tis\, or Inuit.
LAST-MODIFIED:20260408T143516
SEQUENCE:0
STATUS:CONFIRMED
SUMMARY:ISC Monthly Corn Soup Lunch
TRANSP:OPAQUE
END:VEVENT
END:VCALENDAR
