BEGIN:VCALENDAR
PRODID:-//Hannon Hill Events//Cascade CMS//EN
VERSION:2.0
X-WR-CALNAME:Doctoral Public Lecture | Junyu Ke
X-WR-TIMEZONE:America/New_York
BEGIN:VTIMEZONE
TZID:America/New_York
BEGIN:DAYLIGHT
TZOFFSETFROM:-0500
TZOFFSETTO:-0400
TZNAME:EDT
DTSTART:19700308T020000
RRULE:FREQ=YEARLY;BYMONTH=3;BYDAY=2SU
END:DAYLIGHT
BEGIN:STANDARD
TZOFFSETFROM:-0400
TZOFFSETTO:-0500
TZNAME:EST
DTSTART:19701101T020000
RRULE:FREQ=YEARLY;BYMONTH=11;BYDAY=1SU
END:STANDARD
END:VTIMEZONE
BEGIN:VEVENT
DTSTART:20260610T100000
DTEND:20260610T110000
DTSTAMP:20260220T144849
UID:7c97a2a3ac1d70237fb95284f13d3f86
CREATED:20260220T144718
DESCRIPTION:
LAST-MODIFIED:20260220T144835
SEQUENCE:0
STATUS:CONFIRMED
SUMMARY:Doctoral Public Lecture | Junyu Ke
TRANSP:OPAQUE
END:VEVENT
END:VCALENDAR
