BEGIN:VCALENDAR
PRODID:-//Hannon Hill Events//Cascade CMS//EN
VERSION:2.0
X-WR-CALNAME:Why Does EDI Matter in Health Professions Education? An Intro
 duction for Educators
X-WR-TIMEZONE:America/New_York
BEGIN:VTIMEZONE
TZID:America/New_York
BEGIN:DAYLIGHT
TZOFFSETFROM:-0500
TZOFFSETTO:-0400
TZNAME:EDT
DTSTART:19700308T020000
RRULE:FREQ=YEARLY;BYMONTH=3;BYDAY=2SU
END:DAYLIGHT
BEGIN:STANDARD
TZOFFSETFROM:-0400
TZOFFSETTO:-0500
TZNAME:EST
DTSTART:19701101T020000
RRULE:FREQ=YEARLY;BYMONTH=11;BYDAY=1SU
END:STANDARD
END:VTIMEZONE
BEGIN:VEVENT
DTSTART:20260507T120000
DTEND:20260507T133000
DTSTAMP:20260421T112555
UID:8747a658ac1d70230d2e31c8d71d5219
CREATED:20260413T103833
DESCRIPTION:Have you ever wondered about the evidence around why EDI matte
 rs in healthcare and health professions education\, or struggled with what
  to do as an educator? This workshop mixes didactic teaching with interact
 ive discussions to review the existing evidence and reflect on what each e
 ducator can do to support EDI efforts in their teaching practice.
LAST-MODIFIED:20260413T103833
SEQUENCE:0
STATUS:CONFIRMED
SUMMARY:Why Does EDI Matter in Health Professions Education? An Introducti
 on for Educators
TRANSP:OPAQUE
END:VEVENT
END:VCALENDAR
