BEGIN:VCALENDAR
PRODID:-//Hannon Hill Events//Cascade CMS//EN
VERSION:2.0
X-WR-CALNAME:PaLM Grand Rounds May
X-WR-TIMEZONE:America/New_York
BEGIN:VTIMEZONE
TZID:America/New_York
BEGIN:DAYLIGHT
TZOFFSETFROM:-0500
TZOFFSETTO:-0400
TZNAME:EDT
DTSTART:19700308T020000
RRULE:FREQ=YEARLY;BYMONTH=3;BYDAY=2SU
END:DAYLIGHT
BEGIN:STANDARD
TZOFFSETFROM:-0400
TZOFFSETTO:-0500
TZNAME:EST
DTSTART:19701101T020000
RRULE:FREQ=YEARLY;BYMONTH=11;BYDAY=1SU
END:STANDARD
END:VTIMEZONE
BEGIN:VEVENT
DTSTART:20260521T120000
DTEND:20260521T130000
DTSTAMP:20260423T130751
UID:9b78e97fac1d70230d2e31c8b8b62e3d
CREATED:20260417T084445
DESCRIPTION:Join us on Thursday\, May 21\, from 12:00 - 1:00 p.m.\, in Aud
 itorium A at University Hospital\, as&#160\;Dr. Brian Keller\, discusses &
 #8220\;Beyond Checkpoint Inhibition: Remodeling the Tumor Immune Microenvi
 ronment in GI and GU Cancers.&#8221\;
LAST-MODIFIED:20260417T084947
SEQUENCE:0
STATUS:CONFIRMED
SUMMARY:PaLM Grand Rounds May
TRANSP:OPAQUE
END:VEVENT
END:VCALENDAR
