BEGIN:VCALENDAR
PRODID:-//Hannon Hill Events//Cascade CMS//EN
VERSION:2.0
X-WR-CALNAME:Oncology Grand Rounds | Paula Gordon MD
X-WR-TIMEZONE:America/New_York
BEGIN:VTIMEZONE
TZID:America/New_York
BEGIN:DAYLIGHT
TZOFFSETFROM:-0500
TZOFFSETTO:-0400
TZNAME:EDT
DTSTART:19700308T020000
RRULE:FREQ=YEARLY;BYMONTH=3;BYDAY=2SU
END:DAYLIGHT
BEGIN:STANDARD
TZOFFSETFROM:-0400
TZOFFSETTO:-0500
TZNAME:EST
DTSTART:19701101T020000
RRULE:FREQ=YEARLY;BYMONTH=11;BYDAY=1SU
END:STANDARD
END:VTIMEZONE
BEGIN:VEVENT
DTSTART:20260526T120000
DTEND:20260526T130000
DTSTAMP:20260421T112552
UID:6da80e77ac1d70230d2e31c863764522
CREATED:20260408T111343
DESCRIPTION:Breast Cancer Update: The basics\, early detection\, and the i
 mportant role of breast density
LAST-MODIFIED:20260408T111343
SEQUENCE:0
STATUS:CONFIRMED
SUMMARY:Oncology Grand Rounds | Paula Gordon MD
TRANSP:OPAQUE
END:VEVENT
END:VCALENDAR
