BEGIN:VCALENDAR
PRODID:-//Hannon Hill Events//Cascade CMS//EN
VERSION:2.0
X-WR-CALNAME:R.G.E. Murray Seminar | Dr. J. Penades
X-WR-TIMEZONE:America/New_York
BEGIN:VTIMEZONE
TZID:America/New_York
BEGIN:DAYLIGHT
TZOFFSETFROM:-0500
TZOFFSETTO:-0400
TZNAME:EDT
DTSTART:19700308T020000
RRULE:FREQ=YEARLY;BYMONTH=3;BYDAY=2SU
END:DAYLIGHT
BEGIN:STANDARD
TZOFFSETFROM:-0400
TZOFFSETTO:-0500
TZNAME:EST
DTSTART:19701101T020000
RRULE:FREQ=YEARLY;BYMONTH=11;BYDAY=1SU
END:STANDARD
END:VTIMEZONE
BEGIN:VEVENT
DTSTART:20260513T110000
DTEND:20260513T120000
DTSTAMP:20260421T112554
UID:8c8c9a60ac1d70230d2e31c872af7e43
CREATED:20260414T111157
DESCRIPTION:&quot\;Bone app&#233\;tit: Host-pathogen interactions in Staph
 ylococcus aureus osteomyelitis&quot\; \nDr. Jose Penades\, Imperial Colleg
 e London
LAST-MODIFIED:20260414T111323
SEQUENCE:0
STATUS:CONFIRMED
SUMMARY:R.G.E. Murray Seminar | Dr. J. Penades
TRANSP:OPAQUE
END:VEVENT
END:VCALENDAR
