BEGIN:VCALENDAR
PRODID:-//Hannon Hill Events//Cascade CMS//EN
VERSION:2.0
X-WR-CALNAME:R.G.E. Murray Annual Lecturer | Dr. J. Sandberg
X-WR-TIMEZONE:America/New_York
BEGIN:VTIMEZONE
TZID:America/New_York
BEGIN:DAYLIGHT
TZOFFSETFROM:-0500
TZOFFSETTO:-0400
TZNAME:EDT
DTSTART:19700308T020000
RRULE:FREQ=YEARLY;BYMONTH=3;BYDAY=2SU
END:DAYLIGHT
BEGIN:STANDARD
TZOFFSETFROM:-0400
TZOFFSETTO:-0500
TZNAME:EST
DTSTART:19701101T020000
RRULE:FREQ=YEARLY;BYMONTH=11;BYDAY=1SU
END:STANDARD
END:VTIMEZONE
BEGIN:VEVENT
DTSTART:20260528T110000
DTEND:20260528T120000
DTSTAMP:20260423T130841
UID:8c88fa79ac1d70230d2e31c8dda0bdb2
CREATED:20260414T110800
DESCRIPTION:&quot\;TBA&quot\; \nDr. Johan Sandberg\, Karolinska Institutet
LAST-MODIFIED:20260414T111124
SEQUENCE:0
STATUS:CONFIRMED
SUMMARY:R.G.E. Murray Annual Lecturer | Dr. J. Sandberg
TRANSP:OPAQUE
END:VEVENT
END:VCALENDAR
