BEGIN:VCALENDAR
PRODID:-//Hannon Hill Events//Cascade CMS//EN
VERSION:2.0
X-WR-CALNAME:Organizing research with citation management tools
X-WR-TIMEZONE:America/New_York
BEGIN:VTIMEZONE
TZID:America/New_York
BEGIN:DAYLIGHT
TZOFFSETFROM:-0500
TZOFFSETTO:-0400
TZNAME:EDT
DTSTART:19700308T020000
RRULE:FREQ=YEARLY;BYMONTH=3;BYDAY=2SU
END:DAYLIGHT
BEGIN:STANDARD
TZOFFSETFROM:-0400
TZOFFSETTO:-0500
TZNAME:EST
DTSTART:19701101T020000
RRULE:FREQ=YEARLY;BYMONTH=11;BYDAY=1SU
END:STANDARD
END:VTIMEZONE
BEGIN:VEVENT
DTSTART:20260520T110000
DTEND:20260520T120000
DTSTAMP:20260421T112522
UID:91742548ac1d70230d2e31c88df8712e
CREATED:20260415T100321
DESCRIPTION:
LAST-MODIFIED:20260415T103820
SEQUENCE:0
STATUS:CONFIRMED
SUMMARY:Organizing research with citation management tools
TRANSP:OPAQUE
END:VEVENT
END:VCALENDAR
