BEGIN:VCALENDAR
PRODID:-//Hannon Hill Events//Cascade CMS//EN
VERSION:2.0
X-WR-CALNAME:Hit the Ground Running: What to know BEFORE You Start a Syste
 matic/Scoping Review
X-WR-TIMEZONE:America/New_York
BEGIN:VTIMEZONE
TZID:America/New_York
BEGIN:DAYLIGHT
TZOFFSETFROM:-0500
TZOFFSETTO:-0400
TZNAME:EDT
DTSTART:19700308T020000
RRULE:FREQ=YEARLY;BYMONTH=3;BYDAY=2SU
END:DAYLIGHT
BEGIN:STANDARD
TZOFFSETFROM:-0400
TZOFFSETTO:-0500
TZNAME:EST
DTSTART:19701101T020000
RRULE:FREQ=YEARLY;BYMONTH=11;BYDAY=1SU
END:STANDARD
END:VTIMEZONE
BEGIN:VEVENT
DTSTART:20260513T110000
DTEND:20260513T120000
DTSTAMP:20260421T112511
UID:ab4cd5e3ac1d70230d2e31c8e3e61cca
CREATED:20260420T103032
DESCRIPTION:
LAST-MODIFIED:20260420T103032
SEQUENCE:0
STATUS:CONFIRMED
SUMMARY:Hit the Ground Running: What to know BEFORE You Start a Systematic
 /Scoping Review
TRANSP:OPAQUE
END:VEVENT
END:VCALENDAR
