BEGIN:VCALENDAR
PRODID:-//Hannon Hill Events//Cascade CMS//EN
VERSION:2.0
X-WR-CALNAME:Health Equity Through an Experiential Lens
X-WR-TIMEZONE:America/New_York
BEGIN:VTIMEZONE
TZID:America/New_York
BEGIN:DAYLIGHT
TZOFFSETFROM:-0500
TZOFFSETTO:-0400
TZNAME:EDT
DTSTART:19700308T020000
RRULE:FREQ=YEARLY;BYMONTH=3;BYDAY=2SU
END:DAYLIGHT
BEGIN:STANDARD
TZOFFSETFROM:-0400
TZOFFSETTO:-0500
TZNAME:EST
DTSTART:19701101T020000
RRULE:FREQ=YEARLY;BYMONTH=11;BYDAY=1SU
END:STANDARD
END:VTIMEZONE
BEGIN:VEVENT
DTSTART:20260430T120000
DTEND:20260430T133000
DTSTAMP:20260420T140501
UID:87317c66ac1d70230d2e31c87303483c
CREATED:20260413T101420
DESCRIPTION:This session explores health equity through the lived experien
 ces of people from equity-deserving communities and their interactions wit
 h health service providers. Drawing on real-world stories and practice-bas
 ed examples\, learners will examine where gaps emerge in care\, communicat
 ion\, and decision-making\, and how these gaps shape patient experiences a
 nd outcomes. The session equips participants with practical tools to recog
 nize inequities\, reflect on their own practice\, and take concrete steps 
 to bridge these gaps in everyday clinical and professional settings.
LAST-MODIFIED:20260413T101856
SEQUENCE:0
STATUS:CONFIRMED
SUMMARY:Health Equity Through an Experiential Lens
TRANSP:OPAQUE
END:VEVENT
END:VCALENDAR
