BEGIN:VCALENDAR
PRODID:-//Hannon Hill Events//Cascade CMS//EN
VERSION:2.0
X-WR-CALNAME:Public Talks: Distinguished University Professors 2026
X-WR-TIMEZONE:America/New_York
BEGIN:VTIMEZONE
TZID:America/New_York
BEGIN:DAYLIGHT
TZOFFSETFROM:-0500
TZOFFSETTO:-0400
TZNAME:EDT
DTSTART:19700308T020000
RRULE:FREQ=YEARLY;BYMONTH=3;BYDAY=2SU
END:DAYLIGHT
BEGIN:STANDARD
TZOFFSETFROM:-0400
TZOFFSETTO:-0500
TZNAME:EST
DTSTART:19701101T020000
RRULE:FREQ=YEARLY;BYMONTH=11;BYDAY=1SU
END:STANDARD
END:VTIMEZONE
BEGIN:VEVENT
DTSTART:20260422T153000
DTEND:20260422T163000
DTSTAMP:20260420T140719
UID:916245c0ac1d70230d2e31c826e0e54a
CREATED:20260415T094349
DESCRIPTION:Join us for Public Talks by the 2026 Distinguished University 
 Professors.
LAST-MODIFIED:20260415T094349
SEQUENCE:0
STATUS:CONFIRMED
SUMMARY:Public Talks: Distinguished University Professors 2026
TRANSP:OPAQUE
END:VEVENT
END:VCALENDAR
