BEGIN:VCALENDAR
PRODID:-//Hannon Hill Events//Cascade CMS//EN
VERSION:2.0
X-WR-CALNAME:Oncology Grand Rounds | Houda Bahig MD. PhD.
X-WR-TIMEZONE:America/New_York
BEGIN:VTIMEZONE
TZID:America/New_York
BEGIN:DAYLIGHT
TZOFFSETFROM:-0500
TZOFFSETTO:-0400
TZNAME:EDT
DTSTART:19700308T020000
RRULE:FREQ=YEARLY;BYMONTH=3;BYDAY=2SU
END:DAYLIGHT
BEGIN:STANDARD
TZOFFSETFROM:-0400
TZOFFSETTO:-0500
TZNAME:EST
DTSTART:19701101T020000
RRULE:FREQ=YEARLY;BYMONTH=11;BYDAY=1SU
END:STANDARD
END:VTIMEZONE
BEGIN:VEVENT
DTSTART:20260421T120000
DTEND:20260421T130000
DTSTAMP:20260420T140258
UID:91351e53ac1d70237fb95284c9c5aaba
CREATED:20260224T145143
DESCRIPTION:From Bench to Beam: A Clinician-Scientist&apos\;s Path Through
  Head and Neck Radiotherapy
LAST-MODIFIED:20260224T145143
SEQUENCE:0
STATUS:CONFIRMED
SUMMARY:Oncology Grand Rounds | Houda Bahig MD. PhD.
TRANSP:OPAQUE
END:VEVENT
END:VCALENDAR
