BEGIN:VCALENDAR
PRODID:-//Hannon Hill Events//Cascade CMS//EN
VERSION:2.0
X-WR-CALNAME:Communicating Early Cancer: How Narratives and Pathology Repo
 rts Shape Risk Perception and Treatment Decisions
X-WR-TIMEZONE:America/New_York
BEGIN:VTIMEZONE
TZID:America/New_York
BEGIN:DAYLIGHT
TZOFFSETFROM:-0500
TZOFFSETTO:-0400
TZNAME:EDT
DTSTART:19700308T020000
RRULE:FREQ=YEARLY;BYMONTH=3;BYDAY=2SU
END:DAYLIGHT
BEGIN:STANDARD
TZOFFSETFROM:-0400
TZOFFSETTO:-0500
TZNAME:EST
DTSTART:19701101T020000
RRULE:FREQ=YEARLY;BYMONTH=11;BYDAY=1SU
END:STANDARD
END:VTIMEZONE
BEGIN:VEVENT
DTSTART:20260401T100000
DTEND:20260401T113000
DTSTAMP:20260420T140133
UID:f70124e0ac1d702376e135d0f70adcea
CREATED:20260316T101613
DESCRIPTION:Benjamin Chin-Yee (Western University) and Lisa Vandeberg (Rad
 boud University) lead a Rotman Seminar: &quot\;Communicating Early Cancer:
  How Narratives and Pathology Reports Shape Risk Perception and Treatment 
 Decisions&quot\;
LAST-MODIFIED:20260326T132559
SEQUENCE:0
STATUS:CONFIRMED
SUMMARY:Communicating Early Cancer: How Narratives and Pathology Reports S
 hape Risk Perception and Treatment Decisions
TRANSP:OPAQUE
END:VEVENT
END:VCALENDAR
