BEGIN:VCALENDAR
PRODID:-//Hannon Hill Events//Cascade CMS//EN
VERSION:2.0
X-WR-CALNAME:Research &amp\; Media Workshop: Co-hosted by Rotman &amp\; Sp
 ace
X-WR-TIMEZONE:America/New_York
BEGIN:VTIMEZONE
TZID:America/New_York
BEGIN:DAYLIGHT
TZOFFSETFROM:-0500
TZOFFSETTO:-0400
TZNAME:EDT
DTSTART:19700308T020000
RRULE:FREQ=YEARLY;BYMONTH=3;BYDAY=2SU
END:DAYLIGHT
BEGIN:STANDARD
TZOFFSETFROM:-0400
TZOFFSETTO:-0500
TZNAME:EST
DTSTART:19701101T020000
RRULE:FREQ=YEARLY;BYMONTH=11;BYDAY=1SU
END:STANDARD
END:VTIMEZONE
BEGIN:VEVENT
DTSTART:20260304T133000
DTEND:20260304T150000
DTSTAMP:20260318T115817
UID:4d5876a0ac1d70237fb9528495469748
CREATED:20260211T103609
DESCRIPTION:Research and Media Workshop
LAST-MODIFIED:20260211T103609
SEQUENCE:0
STATUS:CONFIRMED
SUMMARY:Research &amp\; Media Workshop: Co-hosted by Rotman &amp\; Space
TRANSP:OPAQUE
END:VEVENT
END:VCALENDAR
