BEGIN:VCALENDAR
PRODID:-//Hannon Hill Events//Cascade CMS//EN
VERSION:2.0
X-WR-CALNAME:Footprints to Facies: The Practical Power of Ichnology
X-WR-TIMEZONE:America/New_York
BEGIN:VTIMEZONE
TZID:America/New_York
BEGIN:DAYLIGHT
TZOFFSETFROM:-0500
TZOFFSETTO:-0400
TZNAME:EDT
DTSTART:19700308T020000
RRULE:FREQ=YEARLY;BYMONTH=3;BYDAY=2SU
END:DAYLIGHT
BEGIN:STANDARD
TZOFFSETFROM:-0400
TZOFFSETTO:-0500
TZNAME:EST
DTSTART:19701101T020000
RRULE:FREQ=YEARLY;BYMONTH=11;BYDAY=1SU
END:STANDARD
END:VTIMEZONE
BEGIN:VEVENT
DTSTART:20260326T180000
DTEND:20260326T190000
DTSTAMP:20260219T143858
UID:713aa096ac1d70237fb9528483e70853
CREATED:20260218T094953
DESCRIPTION:This talk shows how footprints\, burrows\, and other traces le
 ft by ancient animals help scientists reconstruct past environments&#8212\
 ;often where bones are missing. These traces reveal conditions like water 
 depth\, oxygen levels\, and ecosystem health\, offering a practical way to
  understand ancient landscapes and modern environmental change.
LAST-MODIFIED:20260218T094953
SEQUENCE:0
STATUS:CONFIRMED
SUMMARY:Footprints to Facies: The Practical Power of Ichnology
TRANSP:OPAQUE
END:VEVENT
END:VCALENDAR
