BEGIN:VCALENDAR
PRODID:-//Hannon Hill Events//Cascade CMS//EN
VERSION:2.0
X-WR-CALNAME:What Is To Be Done? Climate Justice Is Climate Revolution - O
 r We&apos\;re Dead
X-WR-TIMEZONE:America/New_York
BEGIN:VTIMEZONE
TZID:America/New_York
BEGIN:DAYLIGHT
TZOFFSETFROM:-0500
TZOFFSETTO:-0400
TZNAME:EDT
DTSTART:19700308T020000
RRULE:FREQ=YEARLY;BYMONTH=3;BYDAY=2SU
END:DAYLIGHT
BEGIN:STANDARD
TZOFFSETFROM:-0400
TZOFFSETTO:-0500
TZNAME:EST
DTSTART:19701101T020000
RRULE:FREQ=YEARLY;BYMONTH=11;BYDAY=1SU
END:STANDARD
END:VTIMEZONE
BEGIN:VEVENT
DTSTART:20251113T113000
DTEND:20251113T123000
DTSTAMP:20251118T154933
UID:5516d87dac1d70234f54616f6b6641d8
CREATED:20251105T123551
DESCRIPTION:Dr Todd Dufresne (Philosophy\, Lakehead University)\, &quot\;W
 hat Is To Be Done? Climate Justice Is Climate Revolution \- Or We&apos\;re
  Dead&quot\;
LAST-MODIFIED:20251105T125204
SEQUENCE:0
STATUS:CONFIRMED
SUMMARY:What Is To Be Done? Climate Justice Is Climate Revolution - Or We&
 apos\;re Dead
TRANSP:OPAQUE
END:VEVENT
END:VCALENDAR
