BEGIN:VCALENDAR
PRODID:-//Hannon Hill Events//Cascade CMS//EN
VERSION:2.0
X-WR-CALNAME:R.G.E. Murray Seminar | Dr. A. Moorman
X-WR-TIMEZONE:America/New_York
BEGIN:VTIMEZONE
TZID:America/New_York
BEGIN:DAYLIGHT
TZOFFSETFROM:-0500
TZOFFSETTO:-0400
TZNAME:EDT
DTSTART:19700308T020000
RRULE:FREQ=YEARLY;BYMONTH=3;BYDAY=2SU
END:DAYLIGHT
BEGIN:STANDARD
TZOFFSETFROM:-0400
TZOFFSETTO:-0500
TZNAME:EST
DTSTART:19701101T020000
RRULE:FREQ=YEARLY;BYMONTH=11;BYDAY=1SU
END:STANDARD
END:VTIMEZONE
BEGIN:VEVENT
DTSTART:20251113T110000
DTEND:20251113T120000
DTSTAMP:20251118T154543
UID:01ff540aac1d702351f3202f457842ef
CREATED:20251020T102141
DESCRIPTION:&quot\;From cold to complex: rethinking the immune landscape o
 f EBV-positive pediatric Burkitt lymphoma within the context of malaria&qu
 ot\; \nDr. Ann Moorman\, University of Massachusetts
LAST-MODIFIED:20251028T130327
SEQUENCE:0
STATUS:CONFIRMED
SUMMARY:R.G.E. Murray Seminar | Dr. A. Moorman
TRANSP:OPAQUE
END:VEVENT
END:VCALENDAR
