BEGIN:VCALENDAR
PRODID:-//Hannon Hill Events//Cascade CMS//EN
VERSION:2.0
X-WR-CALNAME:Fusion 360 CAM &amp\; CNC Preview: Design That Moves
X-WR-TIMEZONE:America/New_York
BEGIN:VTIMEZONE
TZID:America/New_York
BEGIN:DAYLIGHT
TZOFFSETFROM:-0500
TZOFFSETTO:-0400
TZNAME:EDT
DTSTART:19700308T020000
RRULE:FREQ=YEARLY;BYMONTH=3;BYDAY=2SU
END:DAYLIGHT
BEGIN:STANDARD
TZOFFSETFROM:-0400
TZOFFSETTO:-0500
TZNAME:EST
DTSTART:19701101T020000
RRULE:FREQ=YEARLY;BYMONTH=11;BYDAY=1SU
END:STANDARD
END:VTIMEZONE
BEGIN:VEVENT
DTSTART:20251127T160000
DTEND:20251127T180000
DTSTAMP:20251118T154630
UID:353af594ac1d70234f54616f8e928473
CREATED:20251030T090727
DESCRIPTION:Learn how to generate CAM toolpaths in Fusion 360\, visualize 
 feeds and speeds\, and understand how your design becomes a machine-ready 
 file.
LAST-MODIFIED:20251030T091014
SEQUENCE:0
STATUS:CONFIRMED
SUMMARY:Fusion 360 CAM &amp\; CNC Preview: Design That Moves
TRANSP:OPAQUE
END:VEVENT
END:VCALENDAR
